BEGIN:VCALENDAR
VERSION:2.0
PRODID:-//Emerson Theater Collaborative - ECPv6.15.20//NONSGML v1.0//EN
CALSCALE:GREGORIAN
METHOD:PUBLISH
X-WR-CALNAME:Emerson Theater Collaborative
X-ORIGINAL-URL:https://emersontheatercollaborative.org
X-WR-CALDESC:Events for Emerson Theater Collaborative
REFRESH-INTERVAL;VALUE=DURATION:PT1H
X-Robots-Tag:noindex
X-PUBLISHED-TTL:PT1H
BEGIN:VTIMEZONE
TZID:America/Phoenix
BEGIN:STANDARD
TZOFFSETFROM:-0700
TZOFFSETTO:-0700
TZNAME:MST
DTSTART:20220101T000000
END:STANDARD
END:VTIMEZONE
BEGIN:VEVENT
DTSTART;TZID=America/Phoenix:20231006T190000
DTEND;TZID=America/Phoenix:20231007T203000
DTSTAMP:20260424T013816
CREATED:20230824T230109Z
LAST-MODIFIED:20230926T191132Z
UID:1496-1696618800-1696710600@emersontheatercollaborative.org
SUMMARY:Indecent
DESCRIPTION:Join Emerson Theater Collaborative for this deeply moving play inspired by the true events surrounding the controversial 1923 Broadway debut of Sholem Asch’s God of Vengeance—a play seen by some as a seminal work of Jewish culture\, and by others as an act of traitorous libel. Indecent charts the history of an incendiary drama and the path of the artists who risked their careers and lives to perform it. \nWritten by Paula Vogel. Produced by Jon Capozzoli and Camilla Ross \n\nDates/Times: \n\nFriday\, October 6th\, 7pm\nSaturday\, October 7th\, 2pm & 7pm\n\n\n\nTicketing In-Person:\n\nAdvance Purchase / General Seating – $35\nAdvance Purchase / Reserved Seating – $45 (pick your seats with our reserved “seating” map)\nAt-the-Door – $45\n\nNo Refunds! \nCLICK HERE TO BUY TICKETS! \n  \nPLAYWRIGHT: \nPaula Vogel is a Pulitzer Prize-winning playwright whose plays are produced throughout the world. INDECENT opened on Broadway in April 2017 and was nominated for a Tony Award for Best Play. HOW I LEARNED TO DRIVE received the Pulitzer Prize\, Lortel Prize\, Drama Desk\, Outer Critics Circle\, and New York Drama Critics awards for Best Play\, and her second OBIE Award. Other plays include THE LONG CHRISTMAS RIDE HOME\, THE MINEOLA TWINS\, THE BALTIMORE WALTZ\, HOT ‘N’ THROBBING\, DESDEMONA\, AND BABY MAKES SEVEN\, THE OLDEST PROFESSION\, A CIVIL WAR CHRISTMAS\, and DON JUAN COMES HOME FROM IRAQ. Most recent awards include the American Theater Hall of Fame Award\, the Dramatists Guild Lifetime Achievement Award\, the Lillys\, the Thornton Wilder Prize\, the OBIE Award for Lifetime Achievement\, and the NY Drama Critics’ Circle Award. She is honored to have three awards dedicated to emerging playwrights in her name: the American College Theater Festival\, the Paula Vogel Award given annually by the Vineyard Theatre\, and the recent Paula Vogel mentor’s award by Young Playwrights of Philadelphia. Her plays are published in six volumes by TCG Press and she teaches playwriting workshops throughout the United States and abroad. For more\, please visit www.paulavogelplaywright.com \n  \nACTORS: \n\nElie Benhiyoun\nBrad Burgess\nJerry Goralnick\nJeremy Goren\nEmma Harris\nCathy Salit\nShoshana Wilder
URL:https://emersontheatercollaborative.org/event/indecent/
LOCATION:Verde Valley School | Brady Hall\, 3511 Verde Valley School Rd\, Sedona\, AZ\, 86351\, United States
CATEGORIES:Adult,Cultural,Drama,Historical,Humanities,Performing Arts,Sedona
ATTACH;FMTTYPE=image/png:https://emersontheatercollaborative.org/wp-content/uploads/emerson-theater-collaborative-shows-indecent-fnl-1200x628-1.png
ORGANIZER;CN="Emerson Theater Collaborative - Camilla Ross":MAILTO:cross@emersontheater.org
END:VEVENT
END:VCALENDAR