BEGIN:VCALENDAR
VERSION:2.0
PRODID:-//Emerson Theater Collaborative - ECPv6.15.20//NONSGML v1.0//EN
CALSCALE:GREGORIAN
METHOD:PUBLISH
X-WR-CALNAME:Emerson Theater Collaborative
X-ORIGINAL-URL:https://emersontheatercollaborative.org
X-WR-CALDESC:Events for Emerson Theater Collaborative
REFRESH-INTERVAL;VALUE=DURATION:PT1H
X-Robots-Tag:noindex
X-PUBLISHED-TTL:PT1H
BEGIN:VTIMEZONE
TZID:America/Phoenix
BEGIN:STANDARD
TZOFFSETFROM:-0700
TZOFFSETTO:-0700
TZNAME:MST
DTSTART:20230101T000000
END:STANDARD
END:VTIMEZONE
BEGIN:VEVENT
DTSTART;TZID=America/Phoenix:20241026T190000
DTEND;TZID=America/Phoenix:20241027T203000
DTSTAMP:20260423T102816
CREATED:20230717T204248Z
LAST-MODIFIED:20231030T204354Z
UID:1434-1729969200-1730061000@emersontheatercollaborative.org
SUMMARY:70 Scenes of Halloween
DESCRIPTION:Join the Arts Academy of Sedona for a quirky\, inventive\, and fun play in which time is out of joint as married couple Jeff and Joan contend with ghosts\, beasts\, and witches banging on their windows\, wafting through their rooms\, and wielding butcher knives. Marriage is scary! [Originally produced by Creation Production Company\, New York]\n\nWritten by Jeffrey Jones. Produced by Camilla Ross. Directed by Craig Schneider.\n\nOctober 26th | Friday | 7pm\nOctober 27th | Saturday | 2pm & 7pm\n\nTicketing In-Person:\nPick your seats with our reserved “seating” map.\n\nAdvance Purchase Premium Seating  – $25\nAdvance Purchase General Audience – $20\nAt the Door – $30\n\n\nNo Refunds!\n\n\n\n70 SCENES OF HALLOWEEN is produced by special arrangement with Broadway Play Publishing Inc\, NYC 
URL:https://emersontheatercollaborative.org/event/70-scenes-of-halloween/
LOCATION:Verde Valley School|Brady Hall\, 3511 Verde Valley School Road\, Sedona\, AZ\, 86351\, United States
CATEGORIES:Comedy,Performing Arts,Sedona
ATTACH;FMTTYPE=image/jpeg:https://emersontheatercollaborative.org/wp-content/uploads/arts_academy_sedona_events_70_scenes_halloween_fnl_1200x628-1.jpg
ORGANIZER;CN="Emerson Theater Collaborative - Camilla Ross":MAILTO:cross@emersontheater.org
END:VEVENT
END:VCALENDAR